BEGIN:VCALENDAR
VERSION:2.0
PRODID:-//104.152.168.27//NONSGML kigkonsult.se iCalcreator 2.20//
CALSCALE:GREGORIAN
METHOD:PUBLISH
X-WR-TIMEZONE:Asia/Tokyo
BEGIN:VEVENT
UID:event40515@Tokyo Gig Guide
DTSTAMP:20260419T124343Z
CATEGORIES:Avant garde
DESCRIPTION:Ikue Mori + Satoko Fujii\nCategory: Avant garde\nLink: https://
 www.tokyogigguide.com/index.php?option=com_jem&view=event&id=40515:ikue-mo
 ri-satoko-fujii&Itemid=1094\n
DTSTART;VALUE=DATE:20260520
DTEND;VALUE=DATE:20260521
LOCATION:velvetsun\,Sunrize Bldg 1F\, 3-47-21 Ogikubo\, Suginami-ku\,Ogikub
 o
SUMMARY:Ikue Mori + Satoko Fujii
URL:https://www.tokyogigguide.com/index.php?option=com_jem&view=event&id=40
 515:ikue-mori-satoko-fujii&Itemid=1094
END:VEVENT
END:VCALENDAR
