BEGIN:VCALENDAR
VERSION:2.0
PRODID:-//104.152.168.27//NONSGML kigkonsult.se iCalcreator 2.20//
CALSCALE:GREGORIAN
METHOD:PUBLISH
X-WR-TIMEZONE:Asia/Tokyo
BEGIN:VEVENT
UID:event40563@Tokyo Gig Guide
DTSTAMP:20260422T032350Z
CATEGORIES:Avant garde\, Experimental\, Improvised\, Noise
DESCRIPTION:Genjitsu\, RT323\, Dave Skipper\, knd\nCategory: Avant garde\, 
 Experimental\, Improvised\, Noise\nLink: https://www.tokyogigguide.com/ind
 ex.php?option=com_jem&view=event&id=40563:live-genjitsu-rt323-dave-skipper
 -knd&Itemid=1094\n
DTSTART:20260501T183000
DTEND:20260501T183000
LOCATION:Oriental Force\,#8 Nitto Build. B1\, Koenji-Minami 3-38-6\,Koenji
SUMMARY:Genjitsu\, RT323\, Dave Skipper\, knd
URL:https://www.tokyogigguide.com/index.php?option=com_jem&view=event&id=40
 563:live-genjitsu-rt323-dave-skipper-knd&Itemid=1094
END:VEVENT
END:VCALENDAR
