BEGIN:VCALENDAR
VERSION:2.0
PRODID:-//104.152.168.27//NONSGML kigkonsult.se iCalcreator 2.20//
CALSCALE:GREGORIAN
METHOD:PUBLISH
X-WR-TIMEZONE:Asia/Tokyo
BEGIN:VEVENT
UID:event40596@Tokyo Gig Guide
DTSTAMP:20260420T132536Z
CATEGORIES:Alternative\, Avant garde\, Experimental\, Improvised\, Progress
 ive
DESCRIPTION:Miyako Kanazawa\,Tatsuya Yoshida\nCategory: Alternative\, Avant
  garde\, Experimental\, Improvised\, Progressive\nLink: https://www.tokyog
 igguide.com/index.php?option=com_jem&view=event&id=40596:miyako-kanazawa-t
 atsuya-yoshida&Itemid=1094\n
DTSTART:20260516T183000
DTEND:20260516T183000
LOCATION:Aja\,Kaneko Building B1\, 2-21-5 Chuo\, Nakano-ku\, Tokyo\,Nakano-
 sakaue
SUMMARY:Miyako Kanazawa\,Tatsuya Yoshida
URL:https://www.tokyogigguide.com/index.php?option=com_jem&view=event&id=40
 596:miyako-kanazawa-tatsuya-yoshida&Itemid=1094
END:VEVENT
END:VCALENDAR
