BEGIN:VCALENDAR
VERSION:2.0
PRODID:-//104.152.168.27//NONSGML kigkonsult.se iCalcreator 2.20//
CALSCALE:GREGORIAN
METHOD:PUBLISH
X-WR-TIMEZONE:Asia/Tokyo
BEGIN:VEVENT
UID:event40613@Tokyo Gig Guide
DTSTAMP:20260422T083607Z
CATEGORIES:Avant garde\, Experimental\, Free Jazz\, Improvised\, Noise
DESCRIPTION:MANIAORGAN DRUM'N'BASS DOUBLE DUO\, viddekazz2 unplugged\, Chii
 ko\nCategory: Avant garde\, Experimental\, Free Jazz\, Improvised\, Noise
 \nLink: https://www.tokyogigguide.com/index.php?option=com_jem&view=event&
 id=40613:live-maniaorgan-drum-n-bass-double-duo-viddekazz2-unplugged-chiik
 o&Itemid=1094\n
DTSTART:20260514T190000
DTEND:20260514T190000
LOCATION:Oriental Force\,#8 Nitto Build. B1\, Koenji-Minami 3-38-6\,Koenji
SUMMARY:MANIAORGAN DRUM'N'BASS DOUBLE DUO\, viddekazz2 unplugged\, Chiiko
URL:https://www.tokyogigguide.com/index.php?option=com_jem&view=event&id=40
 613:live-maniaorgan-drum-n-bass-double-duo-viddekazz2-unplugged-chiiko&Ite
 mid=1094
END:VEVENT
END:VCALENDAR
