BEGIN:VCALENDAR
VERSION:2.0
PRODID:-//104.152.168.27//NONSGML kigkonsult.se iCalcreator 2.20//
CALSCALE:GREGORIAN
METHOD:PUBLISH
X-WR-TIMEZONE:Asia/Tokyo
BEGIN:VEVENT
UID:event40632@Tokyo Gig Guide
DTSTAMP:20260419T222505Z
CATEGORIES:Festival\, Experimental\, Art\, Ambient
DESCRIPTION:Lawrence English(Room40)\, 牧野貴\, 植野隆司 (tenniscoats)\, MIMINOIMI
  – Ambient / Week – 2026\nCategory: Festival\, Experimental\, Art\, Ambien
 t\nLink: https://www.tokyogigguide.com/index.php?option=com_jem&view=event
 &id=40632:lawrence-english-room40-tenniscoats&Itemid=1094\n
DTSTART:20260507T183000
DTEND:20260507T183000
LOCATION:Haretara sorani mame maite (晴れたら空に豆まいて)\,Daikanyamacho 20-20 Monch
 eri B2\, Shibuya-ku\,Daikanyama
SUMMARY:Lawrence English(Room40)\, 牧野貴\, 植野隆司 (tenniscoats)\, MIMINOIMI – A
 mbient / Week – 2026
URL:https://www.tokyogigguide.com/index.php?option=com_jem&view=event&id=40
 632:lawrence-english-room40-tenniscoats&Itemid=1094
END:VEVENT
END:VCALENDAR
