BEGIN:VCALENDAR
VERSION:2.0
PRODID:-//104.152.168.27//NONSGML kigkonsult.se iCalcreator 2.20//
CALSCALE:GREGORIAN
METHOD:PUBLISH
X-WR-TIMEZONE:Asia/Tokyo
BEGIN:VEVENT
UID:event40634@Tokyo Gig Guide
DTSTAMP:20260420T012642Z
CATEGORIES:Festival\, Experimental\, Avant garde\, Ambient
DESCRIPTION:土取利行\, SUGAI KEN\, Chihei Hatakeyama\, Fabio Perletta\, Andreas
  Trobollowitsch\, 黒田鈴尊\, Shuta Hiraki (よろすず)\nCategory: Festival\, Experim
 ental\, Avant garde\, Ambient\nLink: https://www.tokyogigguide.com/index.p
 hp?option=com_jem&view=event&id=40634:sugai-ken-chihei-hatakeyama-fabio-pe
 rletta-andreas-trobollowitsch-shuta-hiraki&Itemid=1094\n
DTSTART:20260509T143000
DTEND:20260509T143000
SUMMARY:土取利行\, SUGAI KEN\, Chihei Hatakeyama\, Fabio Perletta\, Andreas Tro
 bollowitsch\, 黒田鈴尊\, Shuta Hiraki (よろすず)
URL:https://www.tokyogigguide.com/index.php?option=com_jem&view=event&id=40
 634:sugai-ken-chihei-hatakeyama-fabio-perletta-andreas-trobollowitsch-shut
 a-hiraki&Itemid=1094
END:VEVENT
END:VCALENDAR
