BEGIN:VCALENDAR
VERSION:2.0
PRODID:-//104.152.168.27//NONSGML kigkonsult.se iCalcreator 2.20//
CALSCALE:GREGORIAN
METHOD:PUBLISH
X-WR-TIMEZONE:Asia/Tokyo
BEGIN:VEVENT
UID:event40641@Tokyo Gig Guide
DTSTAMP:20260421T203512Z
CATEGORIES:Experimental\, Acoustic\, Improvised
DESCRIPTION:Tom Soloveitzik\, Wakana Ikeda\, Yoko Ikeda\, Takashi Masubuchi
 \nCategory: Experimental\, Acoustic\, Improvised\nLink: https://www.tokyog
 igguide.com/index.php?option=com_jem&view=event&id=40641:tom-soloveitzik-w
 akana-ikeda-yoko-ikeda-takashi-masubuchi&Itemid=1094\n
DTSTART:20260426T170000
DTEND:20260426T170000
LOCATION:Yamanekoken\,137-5 ryugaya\, ogosechou\, iruma-gun\, saitama-ken\,
 Ogose\, Saitama
SUMMARY:Tom Soloveitzik\, Wakana Ikeda\, Yoko Ikeda\, Takashi Masubuchi
URL:https://www.tokyogigguide.com/index.php?option=com_jem&view=event&id=40
 641:tom-soloveitzik-wakana-ikeda-yoko-ikeda-takashi-masubuchi&Itemid=1094
END:VEVENT
END:VCALENDAR
