BEGIN:VCALENDAR
VERSION:2.0
PRODID:-//104.152.168.27//NONSGML kigkonsult.se iCalcreator 2.20//
CALSCALE:GREGORIAN
METHOD:PUBLISH
X-WR-TIMEZONE:Asia/Tokyo
BEGIN:VEVENT
UID:event40653@Tokyo Gig Guide
DTSTAMP:20260421T220213Z
CATEGORIES:Alternative\, Ambient
DESCRIPTION:Sota Shimizu\, Hidetoshi Koizumi\, Masafumi Teruyama\, Reisavul
 o Adachi (Seitai Body Treatment\, Homeostasis Ambient Sound)\nCategory: Al
 ternative\, Ambient\nLink: https://www.tokyogigguide.com/index.php?option=
 com_jem&view=event&id=40653:sota-shimizu-hidetoshi-koizumi-masafumi-teruya
 ma-reisavulo-adachi-seitai-body-tteatment-homeostasis-ambient-sound&Itemid
 =1094\n
DTSTART:20260423T183000
DTEND:20260423T183000
LOCATION:POLARIS\,6-2-10 Minami-Aoyama\, Minato-ku\, Tokyo\,Minami-Aoyama
SUMMARY:Sota Shimizu\, Hidetoshi Koizumi\, Masafumi Teruyama\, Reisavulo Ad
 achi (Seitai Body Treatment\, Homeostasis Ambient Sound)
URL:https://www.tokyogigguide.com/index.php?option=com_jem&view=event&id=40
 653:sota-shimizu-hidetoshi-koizumi-masafumi-teruyama-reisavulo-adachi-seit
 ai-body-tteatment-homeostasis-ambient-sound&Itemid=1094
END:VEVENT
END:VCALENDAR
