BEGIN:VCALENDAR
VERSION:2.0
PRODID:-//104.152.168.27//NONSGML kigkonsult.se iCalcreator 2.20//
CALSCALE:GREGORIAN
METHOD:PUBLISH
X-WR-TIMEZONE:Asia/Tokyo
BEGIN:VEVENT
UID:event40658@Tokyo Gig Guide
DTSTAMP:20260422T154452Z
CATEGORIES:Alternative\, Avant garde\, Blues\, Experimental
DESCRIPTION:Fuyuki Yamakawa\, Jan Urila Sas\, Ayami Suzuki\nCategory: Alter
 native\, Avant garde\, Blues\, Experimental\nLink: https://www.tokyogiggui
 de.com/index.php?option=com_jem&view=event&id=40658:fuyuki-yamakawa-jan-ur
 ila-sas-ayami-suzuki&Itemid=1094\n
DTSTART:20260429T190000
DTEND:20260429T190000
LOCATION:POLARIS\,6-2-10 Minami-Aoyama\, Minato-ku\, Tokyo\,Minami-Aoyama
SUMMARY:Fuyuki Yamakawa\, Jan Urila Sas\, Ayami Suzuki
URL:https://www.tokyogigguide.com/index.php?option=com_jem&view=event&id=40
 658:fuyuki-yamakawa-jan-urila-sas-ayami-suzuki&Itemid=1094
END:VEVENT
END:VCALENDAR
