BEGIN:VCALENDAR
VERSION:2.0
PRODID:-//104.152.168.27//NONSGML kigkonsult.se iCalcreator 2.20//
CALSCALE:GREGORIAN
METHOD:PUBLISH
X-WR-TIMEZONE:Asia/Tokyo
BEGIN:VEVENT
UID:event40670@Tokyo Gig Guide
DTSTAMP:20260423T003922Z
CATEGORIES:Art
DESCRIPTION:Hikagami (band set)\, Zayaendo\nCategory: Art\nLink: https://ww
 w.tokyogigguide.com/index.php?option=com_jem&view=event&id=40670:hikagami-
 band-set-zayaendo&Itemid=1094\n
DTSTART:20260510T183000
DTEND:20260510T183000
LOCATION:POLARIS\,6-2-10 Minami-Aoyama\, Minato-ku\, Tokyo\,Minami-Aoyama
SUMMARY:Hikagami (band set)\, Zayaendo
URL:https://www.tokyogigguide.com/index.php?option=com_jem&view=event&id=40
 670:hikagami-band-set-zayaendo&Itemid=1094
END:VEVENT
END:VCALENDAR
