BEGIN:VCALENDAR
VERSION:2.0
PRODID:-//104.152.168.27//NONSGML kigkonsult.se iCalcreator 2.20//
CALSCALE:GREGORIAN
METHOD:PUBLISH
X-WR-TIMEZONE:Asia/Tokyo
BEGIN:VEVENT
UID:event40675@Tokyo Gig Guide
DTSTAMP:20260420T022917Z
CATEGORIES:Alternative\, Ambient\, Art
DESCRIPTION:Carl Stone × Chihei Hatakeyama\nCategory: Alternative\, Ambient
 \, Art\nLink: https://www.tokyogigguide.com/index.php?option=com_jem&view=
 event&id=40675:carl-stone-chihei-hatakeyama&Itemid=1094\n
DTSTART:20260524T190000
DTEND:20260524T190000
LOCATION:POLARIS\,6-2-10 Minami-Aoyama\, Minato-ku\, Tokyo\,Minami-Aoyama
SUMMARY:Carl Stone × Chihei Hatakeyama
URL:https://www.tokyogigguide.com/index.php?option=com_jem&view=event&id=40
 675:carl-stone-chihei-hatakeyama&Itemid=1094
END:VEVENT
END:VCALENDAR
