BEGIN:VCALENDAR
VERSION:2.0
PRODID:-//104.152.168.27//NONSGML kigkonsult.se iCalcreator 2.20//
CALSCALE:GREGORIAN
METHOD:PUBLISH
X-WR-TIMEZONE:Asia/Tokyo
BEGIN:VEVENT
UID:event40691@Tokyo Gig Guide
DTSTAMP:20260420T064400Z
CATEGORIES:Ambient\, Art\, Experimental\, Festival\, Other
DESCRIPTION:中川真 特別ワークショップ\nCategory: Ambient\, Art\, Experimental\, Festiva
 l\, Other\nLink: https://www.tokyogigguide.com/index.php?option=com_jem&vi
 ew=event&id=40691:miminoimi-ambient-week-2026-attention-in-motion&Itemid=1
 094\n
DTSTART:20260504T140000
DTEND:20260504T140000
SUMMARY:中川真 特別ワークショップ
URL:https://www.tokyogigguide.com/index.php?option=com_jem&view=event&id=40
 691:miminoimi-ambient-week-2026-attention-in-motion&Itemid=1094
END:VEVENT
END:VCALENDAR
