BEGIN:VCALENDAR
VERSION:2.0
PRODID:-//104.152.168.27//NONSGML kigkonsult.se iCalcreator 2.20//
CALSCALE:GREGORIAN
METHOD:PUBLISH
X-WR-TIMEZONE:Asia/Tokyo
BEGIN:VEVENT
UID:event40699@Tokyo Gig Guide
DTSTAMP:20260422T190753Z
CATEGORIES:All Mix\, Improvised
DESCRIPTION:Kokichi Yanagisawa\, Ryotaro Miyasaka\, Masayuki Fujimoto\, Tar
 o Kato\, Koyama\nCategory: All Mix\, Improvised\nLink: https://www.tokyogi
 gguide.com/index.php?option=com_jem&view=event&id=40699:kokichi-yanagisawa
 -ryotaro-miyasaka-masayuki-fujimoto-taro-kato-koyama&Itemid=1094\n
DTSTART:20260428T190000
DTEND:20260428T190000
LOCATION:Nanahari\,Oriental Bldg. B1\, 2-7-1 Shinkawa\, Chuo-ku\,Hatchobori
SUMMARY:Kokichi Yanagisawa\, Ryotaro Miyasaka\, Masayuki Fujimoto\, Taro Ka
 to\, Koyama
URL:https://www.tokyogigguide.com/index.php?option=com_jem&view=event&id=40
 699:kokichi-yanagisawa-ryotaro-miyasaka-masayuki-fujimoto-taro-kato-koyama
 &Itemid=1094
END:VEVENT
END:VCALENDAR
