BEGIN:VCALENDAR
VERSION:2.0
PRODID:-//104.152.168.27//NONSGML kigkonsult.se iCalcreator 2.20//
CALSCALE:GREGORIAN
METHOD:PUBLISH
X-WR-TIMEZONE:Asia/Tokyo
BEGIN:VEVENT
UID:event40722@Tokyo Gig Guide
DTSTAMP:20260425T112706Z
CATEGORIES:Jazz
DESCRIPTION:Yoko Tada\, Yasuhiro Usui\nCategory: Jazz\nLink: https://www.to
 kyogigguide.com/index.php?option=com_jem&view=event&id=40722:yoko-tada-yas
 uhiro-usui&Itemid=1094\n
DTSTART:20260421T103000
DTEND:20260421T103000
LOCATION:Pit Inn\,Accord Bldg B1\, 2-12-4 Shinjuku\, Shinjuku-ku\,Shinjuku
SUMMARY:Yoko Tada\, Yasuhiro Usui
URL:https://www.tokyogigguide.com/index.php?option=com_jem&view=event&id=40
 722:yoko-tada-yasuhiro-usui&Itemid=1094
END:VEVENT
END:VCALENDAR
