BEGIN:VCALENDAR
VERSION:2.0
PRODID:-//104.152.168.27//NONSGML kigkonsult.se iCalcreator 2.20//
CALSCALE:GREGORIAN
METHOD:PUBLISH
X-WR-TIMEZONE:Asia/Tokyo
BEGIN:VEVENT
UID:event40724@Tokyo Gig Guide
DTSTAMP:20260421T221247Z
CATEGORIES:All Mix\, Blues\, Funk\, Fusion\, Jam\, Jazz\, Open Mic\, R n B\
 , Rock\, Soul
DESCRIPTION:Derek Short Groove Party / Open Mic / Jam Session at  Aja in Na
 kano\nCategory: All Mix\, Blues\, Funk\, Fusion\, Jam\, Jazz\, Open Mic\, 
 R n B\, Rock\, Soul\nLink: https://www.tokyogigguide.com/index.php?option=
 com_jem&view=event&id=40724:derek-short-groove-party-open-mic-jam-session-
 at-aja-in-nakano&Itemid=1094\n
DTSTART:20260421T190000
DTEND:20260421T190000
LOCATION:Aja\,Kaneko Building B1\, 2-21-5 Chuo\, Nakano-ku\, Tokyo\,Nakano-
 sakaue
SUMMARY:Derek Short Groove Party / Open Mic / Jam Session at  Aja in Nakano
URL:https://www.tokyogigguide.com/index.php?option=com_jem&view=event&id=40
 724:derek-short-groove-party-open-mic-jam-session-at-aja-in-nakano&Itemid=
 1094
END:VEVENT
END:VCALENDAR
