BEGIN:VCALENDAR
VERSION:2.0
PRODID:-//104.152.168.27//NONSGML kigkonsult.se iCalcreator 2.20//
CALSCALE:GREGORIAN
METHOD:PUBLISH
X-WR-TIMEZONE:Asia/Tokyo
BEGIN:VEVENT
UID:event4451@Tokyo Gig Guide
DTSTAMP:20260422T083533Z
CATEGORIES:Experimental
DESCRIPTION:HUH\, yudayajazz\, FDF+@\, HALBACH\, 赤犬姉妹\, 嶽\, ∞lab∞\, プンクボイ\n
 Category: Experimental\nLink: https://www.tokyogigguide.com/index.php?opti
 on=com_jem&view=event&id=4451:huh-yudayajazz-fdf-halbach---lab-&Itemid=109
 4\n
DTSTART:20110415T183000
DTEND:20110415T183000
LOCATION:Three\,Kitazawa 5-18-1 B1F\, Setagaya-ku\, Tokyo\,Shimokitazawa
SUMMARY:HUH\, yudayajazz\, FDF+@\, HALBACH\, 赤犬姉妹\, 嶽\, ∞lab∞\, プンクボイ
URL:https://www.tokyogigguide.com/index.php?option=com_jem&view=event&id=44
 51:huh-yudayajazz-fdf-halbach---lab-&Itemid=1094
END:VEVENT
END:VCALENDAR
