BEGIN:VCALENDAR
VERSION:2.0
PRODID:-//104.152.168.27//NONSGML kigkonsult.se iCalcreator 2.20//
CALSCALE:GREGORIAN
METHOD:PUBLISH
X-WR-TIMEZONE:Asia/Tokyo
BEGIN:VEVENT
UID:event4522@Tokyo Gig Guide
DTSTAMP:20260421T004628Z
CATEGORIES:Indie
DESCRIPTION:JOVO\, Gold Sounds\, クラーク内藤\, 山田圭太郎 (やままん)\nCategory: Indie\nLi
 nk: https://www.tokyogigguide.com/index.php?option=com_jem&view=event&id=4
 522:jovo-gold-sounds---&Itemid=1094\n
DTSTART:20110427T183000
DTEND:20110427T183000
LOCATION:Three\,Kitazawa 5-18-1 B1F\, Setagaya-ku\, Tokyo\,Shimokitazawa
SUMMARY:JOVO\, Gold Sounds\, クラーク内藤\, 山田圭太郎 (やままん)
URL:https://www.tokyogigguide.com/index.php?option=com_jem&view=event&id=45
 22:jovo-gold-sounds---&Itemid=1094
END:VEVENT
END:VCALENDAR
