BEGIN:VCALENDAR
VERSION:2.0
PRODID:-//104.152.168.27//NONSGML kigkonsult.se iCalcreator 2.20//
CALSCALE:GREGORIAN
METHOD:PUBLISH
X-WR-TIMEZONE:Asia/Tokyo
BEGIN:VEVENT
UID:event5127@Tokyo Gig Guide
DTSTAMP:20260420T133538Z
CATEGORIES:Festival
DESCRIPTION:FDF\, VAU!\, HUH\, ABC\, Miracle Afro Public\, TRASH SUGAR\, DE
 APA\, DJ MEMAI and more!\nCategory: Festival\nLink: https://www.tokyogiggu
 ide.com/index.php?option=com_jem&view=event&id=5127:fdf-vau-huh-abc-miracl
 e-afro-public-trash-sugar-deapa-dj-memai-and-more&Itemid=1094\n
DTSTART:20110819T233000
DTEND:20110819T233000
LOCATION:Three\,Kitazawa 5-18-1 B1F\, Setagaya-ku\, Tokyo\,Shimokitazawa
SUMMARY:FDF\, VAU!\, HUH\, ABC\, Miracle Afro Public\, TRASH SUGAR\, DEAPA\
 , DJ MEMAI and more!
URL:https://www.tokyogigguide.com/index.php?option=com_jem&view=event&id=51
 27:fdf-vau-huh-abc-miracle-afro-public-trash-sugar-deapa-dj-memai-and-more
 &Itemid=1094
END:VEVENT
END:VCALENDAR
