BEGIN:VCALENDAR
VERSION:2.0
PRODID:-//104.152.168.27//NONSGML kigkonsult.se iCalcreator 2.20//
CALSCALE:GREGORIAN
METHOD:PUBLISH
X-WR-TIMEZONE:Asia/Tokyo
BEGIN:VEVENT
UID:event5226@Tokyo Gig Guide
DTSTAMP:20260425T160009Z
CATEGORIES:Rock
DESCRIPTION:ELECTRIC EEL SHOCK\, THE THANKS\, GEKITETSU\, FIGHT IT OUT\, ME
 xxxxG\nCategory: Rock\nLink: https://www.tokyogigguide.com/index.php?optio
 n=com_jem&view=event&id=5226:electric-eel-shock-the-thanks-gekitetsu-fight
 -it-out-mexxxxg&Itemid=1094\n
DTSTART:20110911T180000
DTEND:20110911T180000
LOCATION:Three\,Kitazawa 5-18-1 B1F\, Setagaya-ku\, Tokyo\,Shimokitazawa
SUMMARY:ELECTRIC EEL SHOCK\, THE THANKS\, GEKITETSU\, FIGHT IT OUT\, MExxxx
 G
URL:https://www.tokyogigguide.com/index.php?option=com_jem&view=event&id=52
 26:electric-eel-shock-the-thanks-gekitetsu-fight-it-out-mexxxxg&Itemid=109
 4
END:VEVENT
END:VCALENDAR
