BEGIN:VCALENDAR
VERSION:2.0
PRODID:-//104.152.168.27//NONSGML kigkonsult.se iCalcreator 2.20//
CALSCALE:GREGORIAN
METHOD:PUBLISH
X-WR-TIMEZONE:Asia/Tokyo
BEGIN:VEVENT
UID:event5229@Tokyo Gig Guide
DTSTAMP:20260421T092156Z
CATEGORIES:Mixed Genre
DESCRIPTION:moleslope\, polylis\, The Oversleep Excuse\, (((REBELREBEL on R
 EBELREBELS)))\nCategory: Mixed Genre\nLink: https://www.tokyogigguide.com/
 index.php?option=com_jem&view=event&id=5229:moleslope-polylis-the-overslee
 p-excuse-rebelrebel-on-rebelrebels&Itemid=1094\n
DTSTART:20110919T183000
DTEND:20110919T183000
LOCATION:Three\,Kitazawa 5-18-1 B1F\, Setagaya-ku\, Tokyo\,Shimokitazawa
SUMMARY:moleslope\, polylis\, The Oversleep Excuse\, (((REBELREBEL on REBEL
 REBELS)))
URL:https://www.tokyogigguide.com/index.php?option=com_jem&view=event&id=52
 29:moleslope-polylis-the-oversleep-excuse-rebelrebel-on-rebelrebels&Itemid
 =1094
END:VEVENT
END:VCALENDAR
