BEGIN:VCALENDAR
VERSION:2.0
PRODID:-//104.152.168.27//NONSGML kigkonsult.se iCalcreator 2.20//
CALSCALE:GREGORIAN
METHOD:PUBLISH
X-WR-TIMEZONE:Asia/Tokyo
BEGIN:VEVENT
UID:event5531@Tokyo Gig Guide
DTSTAMP:20260424T085100Z
CATEGORIES:Indie-Rock
DESCRIPTION:Icon Girl Pistols\, Sekitori Hana\, DeadSeaDropouts\, The Necro
 philiac Groupies Dream Band\nCategory: Indie-Rock\nLink: https://www.tokyo
 gigguide.com/index.php?option=com_jem&view=event&id=5531:icon-girl-pistols
 -sekitori-hana-deadseadropouts-the-necrophiliac-groupies-dream-band&Itemid
 =1094\n
DTSTART:20111030T190000
DTEND:20111030T190000
LOCATION:NOB\,Maruyamacho 1-3 BF\, Shibuya-ku\,Shibuya
SUMMARY:Icon Girl Pistols\, Sekitori Hana\, DeadSeaDropouts\, The Necrophil
 iac Groupies Dream Band
URL:https://www.tokyogigguide.com/index.php?option=com_jem&view=event&id=55
 31:icon-girl-pistols-sekitori-hana-deadseadropouts-the-necrophiliac-groupi
 es-dream-band&Itemid=1094
END:VEVENT
END:VCALENDAR
