BEGIN:VCALENDAR
VERSION:2.0
PRODID:-//104.152.168.27//NONSGML kigkonsult.se iCalcreator 2.20//
CALSCALE:GREGORIAN
METHOD:PUBLISH
X-WR-TIMEZONE:Asia/Tokyo
BEGIN:VEVENT
UID:event5649@Tokyo Gig Guide
DTSTAMP:20260426T024052Z
CATEGORIES:Indie-Rock
DESCRIPTION:Icon Girl Pistols\, The Evangenitals\, The Nakaji\, Furuhashi A
 tsushi\nCategory: Indie-Rock\nLink: https://www.tokyogigguide.com/index.ph
 p?option=com_jem&view=event&id=5649:icon-girl-pistols-the-evangenitals-the
 -nakaji-furuhashi-atsushi&Itemid=1094\n
DTSTART:20111123T193000
DTEND:20111123T193000
LOCATION:NOB\,Maruyamacho 1-3 BF\, Shibuya-ku\,Shibuya
SUMMARY:Icon Girl Pistols\, The Evangenitals\, The Nakaji\, Furuhashi Atsus
 hi
URL:https://www.tokyogigguide.com/index.php?option=com_jem&view=event&id=56
 49:icon-girl-pistols-the-evangenitals-the-nakaji-furuhashi-atsushi&Itemid=
 1094
END:VEVENT
END:VCALENDAR
