BEGIN:VCALENDAR
VERSION:2.0
PRODID:-//104.152.168.27//NONSGML kigkonsult.se iCalcreator 2.20//
CALSCALE:GREGORIAN
METHOD:PUBLISH
X-WR-TIMEZONE:Asia/Tokyo
BEGIN:VEVENT
UID:event6398@Tokyo Gig Guide
DTSTAMP:20260425T120009Z
CATEGORIES:Indie-Rock
DESCRIPTION:Icon Girl Pistols\, The Mootekkis\, Evangenitals\nCategory: Ind
 ie-Rock\nLink: https://www.tokyogigguide.com/index.php?option=com_jem&view
 =event&id=6398:icon-girl-pistols--the-mootekkis--evangenitals&Itemid=1094
 \n
DTSTART:20120421T193000
DTEND:20120421T193000
LOCATION:NOB\,Maruyamacho 1-3 BF\, Shibuya-ku\,Shibuya
SUMMARY:Icon Girl Pistols\, The Mootekkis\, Evangenitals
URL:https://www.tokyogigguide.com/index.php?option=com_jem&view=event&id=63
 98:icon-girl-pistols--the-mootekkis--evangenitals&Itemid=1094
END:VEVENT
END:VCALENDAR
