BEGIN:VCALENDAR
VERSION:2.0
PRODID:-//104.152.168.27//NONSGML kigkonsult.se iCalcreator 2.20//
CALSCALE:GREGORIAN
METHOD:PUBLISH
X-WR-TIMEZONE:Asia/Tokyo
BEGIN:VEVENT
UID:event640@Tokyo Gig Guide
DTSTAMP:20260425T160030Z
CATEGORIES:Experimental
DESCRIPTION:Oshiripenpenz\, Pikachu drum solo (Afrirampo)\, Good-bye My Lov
 e\, VOVIVAV\nCategory: Experimental\nLink: https://www.tokyogigguide.com/i
 ndex.php?option=com_jem&view=event&id=640:oshiripenpenz-pikachu-drum-solo-
 afrirampo-good-bye-my-love-vovivav&Itemid=1094\n
DTSTART:20090216T183000
DTEND:20090216T183000
LOCATION:Earthdom\,Lisbon Bldg B1F\, 3-32-3 Okubo\, Shinjuku-ku\,Okubo
SUMMARY:Oshiripenpenz\, Pikachu drum solo (Afrirampo)\, Good-bye My Love\, 
 VOVIVAV
URL:https://www.tokyogigguide.com/index.php?option=com_jem&view=event&id=64
 0:oshiripenpenz-pikachu-drum-solo-afrirampo-good-bye-my-love-vovivav&Itemi
 d=1094
END:VEVENT
END:VCALENDAR
