BEGIN:VCALENDAR
VERSION:2.0
PRODID:-//104.152.168.27//NONSGML kigkonsult.se iCalcreator 2.20//
CALSCALE:GREGORIAN
METHOD:PUBLISH
X-WR-TIMEZONE:Asia/Tokyo
BEGIN:VEVENT
UID:event6635@Tokyo Gig Guide
DTSTAMP:20260425T233449Z
CATEGORIES:Mixed Genre
DESCRIPTION:Uuuco.i\, Evil Penguin\, Fidel Villeneuve\, Ian Martin\, James 
 Hadfield\nCategory: Mixed Genre\nLink: https://www.tokyogigguide.com/index
 .php?option=com_jem&view=event&id=6635:uuucoi-evil-penguin-fidel-villeneuv
 e-ian-martin-james-hadfield&Itemid=1094\n
DTSTART:20120601T200000
DTEND:20120601T200000
LOCATION:Knock (Koenji)\,Koenji Minami 3-48-6  B1F\,Koenji
SUMMARY:Uuuco.i\, Evil Penguin\, Fidel Villeneuve\, Ian Martin\, James Hadf
 ield
URL:https://www.tokyogigguide.com/index.php?option=com_jem&view=event&id=66
 35:uuucoi-evil-penguin-fidel-villeneuve-ian-martin-james-hadfield&Itemid=1
 094
END:VEVENT
END:VCALENDAR
