BEGIN:VCALENDAR
VERSION:2.0
PRODID:-//104.152.168.27//NONSGML kigkonsult.se iCalcreator 2.20//
CALSCALE:GREGORIAN
METHOD:PUBLISH
X-WR-TIMEZONE:Asia/Tokyo
BEGIN:VEVENT
UID:event6766@Tokyo Gig Guide
DTSTAMP:20260423T013506Z
CATEGORIES:Mixed Genre
DESCRIPTION:FASHION CRISIS: Canopies & Drapes\, Kaki\, DJs N'toko\, James H
 adfield\, Ian Martin\nCategory: Mixed Genre\nLink: https://www.tokyogiggui
 de.com/index.php?option=com_jem&view=event&id=6766:fashion-crisis-canopies
 -a-drapes-kaki-djs-ntoko-james-hadfield-ian-martin&Itemid=1094\n
DTSTART:20120706T200000
DTEND:20120706T200000
LOCATION:Knock (Koenji)\,Koenji Minami 3-48-6  B1F\,Koenji
SUMMARY:FASHION CRISIS: Canopies & Drapes\, Kaki\, DJs N'toko\, James Hadfi
 eld\, Ian Martin
URL:https://www.tokyogigguide.com/index.php?option=com_jem&view=event&id=67
 66:fashion-crisis-canopies-a-drapes-kaki-djs-ntoko-james-hadfield-ian-mart
 in&Itemid=1094
END:VEVENT
END:VCALENDAR
