BEGIN:VCALENDAR
VERSION:2.0
PRODID:-//104.152.168.27//NONSGML kigkonsult.se iCalcreator 2.20//
CALSCALE:GREGORIAN
METHOD:PUBLISH
X-WR-TIMEZONE:Asia/Tokyo
BEGIN:VEVENT
UID:event7128@Tokyo Gig Guide
DTSTAMP:20260421T075425Z
CATEGORIES:DJ
DESCRIPTION:Slow-Marico\, Sue (Youth is Wasted)\, Maitake (Zibanchinka)\, J
 ames Hadfield\, Ian Martin\nCategory: DJ\nLink: https://www.tokyogigguide.
 com/index.php?option=com_jem&view=event&id=7128:slow-marico-sue-youth-is-w
 asted-maitake-zibanchinka-james-hadfield-ian-martin&Itemid=1094\n
DTSTART:20120907T200000
DTEND:20120907T200000
LOCATION:Knock (Koenji)\,Koenji Minami 3-48-6  B1F\,Koenji
SUMMARY:Slow-Marico\, Sue (Youth is Wasted)\, Maitake (Zibanchinka)\, James
  Hadfield\, Ian Martin
URL:https://www.tokyogigguide.com/index.php?option=com_jem&view=event&id=71
 28:slow-marico-sue-youth-is-wasted-maitake-zibanchinka-james-hadfield-ian-
 martin&Itemid=1094
END:VEVENT
END:VCALENDAR
