BEGIN:VCALENDAR
VERSION:2.0
PRODID:-//104.152.168.27//NONSGML kigkonsult.se iCalcreator 2.20//
CALSCALE:GREGORIAN
METHOD:PUBLISH
X-WR-TIMEZONE:Asia/Tokyo
BEGIN:VEVENT
UID:event713@Tokyo Gig Guide
DTSTAMP:20260422T034751Z
CATEGORIES:Psychedelic
DESCRIPTION:Marble Sheep\nCategory: Psychedelic\nLink: https://www.tokyogig
 guide.com/index.php?option=com_jem&view=event&id=713:marble-sheep&Itemid=1
 094\n
DTSTART:20090420T190000
DTEND:20090420T190000
LOCATION:Showboat\,Oak Hill Koenji B1F\, 3-17-2 Koenji Kita\,Koenji
SUMMARY:Marble Sheep
URL:https://www.tokyogigguide.com/index.php?option=com_jem&view=event&id=71
 3:marble-sheep&Itemid=1094
END:VEVENT
END:VCALENDAR
