BEGIN:VCALENDAR
VERSION:2.0
PRODID:-//104.152.168.27//NONSGML kigkonsult.se iCalcreator 2.20//
CALSCALE:GREGORIAN
METHOD:PUBLISH
X-WR-TIMEZONE:Asia/Tokyo
BEGIN:VEVENT
UID:event7228@Tokyo Gig Guide
DTSTAMP:20260421T180712Z
CATEGORIES:DJ
DESCRIPTION:gawd\, DJ Romantic Harp and Flute with Dolphins\, James Hadfiel
 d\, Ian Martin\nCategory: DJ\nLink: https://www.tokyogigguide.com/index.ph
 p?option=com_jem&view=event&id=7228:gawd-dj-romantic-harp-and-flute-with-d
 olphins-james-hadfield-ian-martin&Itemid=1094\n
DTSTART:20121005T200000
DTEND:20121005T200000
LOCATION:Knock (Koenji)\,Koenji Minami 3-48-6  B1F\,Koenji
SUMMARY:gawd\, DJ Romantic Harp and Flute with Dolphins\, James Hadfield\, 
 Ian Martin
URL:https://www.tokyogigguide.com/index.php?option=com_jem&view=event&id=72
 28:gawd-dj-romantic-harp-and-flute-with-dolphins-james-hadfield-ian-martin
 &Itemid=1094
END:VEVENT
END:VCALENDAR
