BEGIN:VCALENDAR
VERSION:2.0
PRODID:-//104.152.168.27//NONSGML kigkonsult.se iCalcreator 2.20//
CALSCALE:GREGORIAN
METHOD:PUBLISH
X-WR-TIMEZONE:Asia/Tokyo
BEGIN:VEVENT
UID:event7688@Tokyo Gig Guide
DTSTAMP:20260424T095138Z
CATEGORIES:Party
DESCRIPTION:FASHION CRISIS: Matthew Guay\, DJs Memai\, James Hadfield\, Ian
  Martin\nCategory: Party\nLink: https://www.tokyogigguide.com/index.php?op
 tion=com_jem&view=event&id=7688:fashion-crisis-matthew-guay-djs-memai-jame
 s-hadfield-ian-martin&Itemid=1094\n
DTSTART:20130104T200000
DTEND:20130104T200000
LOCATION:Knock (Koenji)\,Koenji Minami 3-48-6  B1F\,Koenji
SUMMARY:FASHION CRISIS: Matthew Guay\, DJs Memai\, James Hadfield\, Ian Mar
 tin
URL:https://www.tokyogigguide.com/index.php?option=com_jem&view=event&id=76
 88:fashion-crisis-matthew-guay-djs-memai-james-hadfield-ian-martin&Itemid=
 1094
END:VEVENT
END:VCALENDAR
