BEGIN:VCALENDAR
VERSION:2.0
PRODID:-//104.152.168.27//NONSGML kigkonsult.se iCalcreator 2.20//
CALSCALE:GREGORIAN
METHOD:PUBLISH
X-WR-TIMEZONE:Asia/Tokyo
BEGIN:VEVENT
UID:event8163@Tokyo Gig Guide
DTSTAMP:20260420T164006Z
CATEGORIES:Unclassifiable
DESCRIPTION:Michiyo Yagi Trio\nCategory: Unclassifiable\nLink: https://www.
 tokyogigguide.com/index.php?option=com_jem&view=event&id=8163:michiyo-yagi
 -trio&Itemid=1094\n
DTSTART:20130420T183000
DTEND:20130420T183000
LOCATION:Dolphy\,2-17-4-2F Miyagawa-cho\, Naka-ku\, Yokohama\,Yokohama
SUMMARY:Michiyo Yagi Trio
URL:https://www.tokyogigguide.com/index.php?option=com_jem&view=event&id=81
 63:michiyo-yagi-trio&Itemid=1094
END:VEVENT
END:VCALENDAR
