BEGIN:VCALENDAR
VERSION:2.0
PRODID:-//104.152.168.27//NONSGML kigkonsult.se iCalcreator 2.20//
CALSCALE:GREGORIAN
METHOD:PUBLISH
X-WR-TIMEZONE:Asia/Tokyo
BEGIN:VEVENT
UID:event8750@Tokyo Gig Guide
DTSTAMP:20260424T232215Z
CATEGORIES:Improvised
DESCRIPTION:Wormhole\nCategory: Improvised\nLink: https://www.tokyogigguide
 .com/index.php?option=com_jem&view=event&id=8750:wormhole&Itemid=1094\n
DTSTART:20130717T193000
DTEND:20130717T193000
LOCATION:Shichoshitsu (Jinbocho)\,3-8-5 Nishi Kanda\, Chiyodaku\, Tokyo\,Ji
 mbocho
SUMMARY:Wormhole
URL:https://www.tokyogigguide.com/index.php?option=com_jem&view=event&id=87
 50:wormhole&Itemid=1094
END:VEVENT
END:VCALENDAR
