BEGIN:VCALENDAR
VERSION:2.0
PRODID:-//104.152.168.27//NONSGML kigkonsult.se iCalcreator 2.20//
CALSCALE:GREGORIAN
METHOD:PUBLISH
X-WR-TIMEZONE:Asia/Tokyo
BEGIN:VEVENT
UID:event9036@Tokyo Gig Guide
DTSTAMP:20260420T232152Z
CATEGORIES:Indie
DESCRIPTION:FASHION CRISIS: Satoru Ono\, DJs Sumire (Twee Grrrls Club)\, Ja
 mes Hadfield\, Ian Mart\nCategory: Indie\nLink: https://www.tokyogigguide.
 com/index.php?option=com_jem&view=event&id=9036:fashion-crisis-satoru-ono-
 djs-sumire-twee-grrrls-club-james-hadfield-ian-mart&Itemid=1094\n
DTSTART:20130906T200000
DTEND:20130906T200000
LOCATION:Knock (Koenji)\,Koenji Minami 3-48-6  B1F\,Koenji
SUMMARY:FASHION CRISIS: Satoru Ono\, DJs Sumire (Twee Grrrls Club)\, James 
 Hadfield\, Ian Mart
URL:https://www.tokyogigguide.com/index.php?option=com_jem&view=event&id=90
 36:fashion-crisis-satoru-ono-djs-sumire-twee-grrrls-club-james-hadfield-ia
 n-mart&Itemid=1094
END:VEVENT
END:VCALENDAR
