BEGIN:VCALENDAR
VERSION:2.0
PRODID:-//104.152.168.27//NONSGML kigkonsult.se iCalcreator 2.20//
CALSCALE:GREGORIAN
METHOD:PUBLISH
X-WR-TIMEZONE:Asia/Tokyo
BEGIN:VEVENT
UID:event9564@Tokyo Gig Guide
DTSTAMP:20260425T134822Z
CATEGORIES:Electro-Pop
DESCRIPTION:Chiroline ver.2\, KITAMURA Sakiko\, CTO LAB.\, GENIUS\nCategory
 : Electro-Pop\nLink: https://www.tokyogigguide.com/index.php?option=com_je
 m&view=event&id=9564:chiroline-ver2-kitamura-sakiko-cto-lab-genius&Itemid=
 1094\n
DTSTART:20131222T180000
DTEND:20131222T180000
LOCATION:Shichoshitsu (Jinbocho)\,3-8-5 Nishi Kanda\, Chiyodaku\, Tokyo\,Ji
 mbocho
SUMMARY:Chiroline ver.2\, KITAMURA Sakiko\, CTO LAB.\, GENIUS
URL:https://www.tokyogigguide.com/index.php?option=com_jem&view=event&id=95
 64:chiroline-ver2-kitamura-sakiko-cto-lab-genius&Itemid=1094
END:VEVENT
END:VCALENDAR
