BEGIN:VCALENDAR
VERSION:2.0
PRODID:-//104.152.168.27//NONSGML kigkonsult.se iCalcreator 2.20//
CALSCALE:GREGORIAN
METHOD:PUBLISH
X-WR-TIMEZONE:Asia/Tokyo
BEGIN:VEVENT
UID:event9571@Tokyo Gig Guide
DTSTAMP:20260424T231225Z
CATEGORIES:Improvised
DESCRIPTION:《《》》 Recording Live\nCategory: Improvised\nLink: https://www.to
 kyogigguide.com/index.php?option=com_jem&view=event&id=9571:-recording-liv
 e&Itemid=1094\n
DTSTART:20140113T183000
DTEND:20140113T183000
LOCATION:Shichoshitsu (Jinbocho)\,3-8-5 Nishi Kanda\, Chiyodaku\, Tokyo\,Ji
 mbocho
SUMMARY:《《》》 Recording Live
URL:https://www.tokyogigguide.com/index.php?option=com_jem&view=event&id=95
 71:-recording-live&Itemid=1094
END:VEVENT
END:VCALENDAR
