BEGIN:VCALENDAR
VERSION:2.0
PRODID:-//104.152.168.27//NONSGML kigkonsult.se iCalcreator 2.20//
CALSCALE:GREGORIAN
METHOD:PUBLISH
X-WR-TIMEZONE:Asia/Tokyo
BEGIN:VEVENT
UID:event40633@Tokyo Gig Guide
DTSTAMP:20260420T230432Z
CATEGORIES:Festival\, Experimental\, Avant garde\, Ambient
DESCRIPTION:MIMINOIMI – Ambient / Week 2026: 土取利行\, いとうせいこう (トーク)\, よろすず (a
 .k.a Shuta Hiraki)\, kentaro nagata\, Yama Yuki\, FeLid\nCategory: Festiva
 l\, Experimental\, Avant garde\, Ambient\nLink: https://www.tokyogigguide.
 com/index.php?option=com_jem&view=event&id=40633:a-k-a-shuta-hiraki-kentar
 o-nagata-yama-yuki-felid-miminoimi-ambient-week-2026&Itemid=1094\n
DTSTART:20260508T190000
DTEND:20260508T190000
LOCATION:SUPER DOMMUNE\,15-1 Udagawa-Cho\, Shibuya-ku\, Tokyo\, PARCO9F\,Sh
 ibuya\,Japan
SUMMARY:MIMINOIMI – Ambient / Week 2026: 土取利行\, いとうせいこう (トーク)\, よろすず (a.k.a
  Shuta Hiraki)\, kentaro nagata\, Yama Yuki\, FeLid
URL:https://www.tokyogigguide.com/index.php?option=com_jem&view=event&id=40
 633:a-k-a-shuta-hiraki-kentaro-nagata-yama-yuki-felid-miminoimi-ambient-we
 ek-2026&Itemid=1094
END:VEVENT
END:VCALENDAR
