BEGIN:VCALENDAR
VERSION:2.0
PRODID:-//104.152.168.27//NONSGML kigkonsult.se iCalcreator 2.20//
CALSCALE:GREGORIAN
METHOD:PUBLISH
X-WR-TIMEZONE:Asia/Tokyo
BEGIN:VEVENT
UID:event39508@Tokyo Gig Guide
DTSTAMP:20260420T062528Z
CATEGORIES:Acoustic\, Art\, Avant garde\, Classical\, Instrumental
DESCRIPTION:Guitar by Bruckner / Bruckner on Guitar\nCategory: Acoustic\, A
 rt\, Avant garde\, Classical\, Instrumental\nLink: https://www.tokyogiggui
 de.com/index.php?option=com_jem&view=event&id=39508:guitar-by-bruckner-bru
 ckner-on-guitar&Itemid=1094\n
DTSTART:20260620T163000
DTEND:20260620T163000
LOCATION:Maly koncert\,18-11 Nakaitabashi\, Itabashi-ku\, Tokyo\,Naka-Itaba
 shi\,Japan
SUMMARY:Guitar by Bruckner / Bruckner on Guitar
URL:https://www.tokyogigguide.com/index.php?option=com_jem&view=event&id=39
 508:guitar-by-bruckner-bruckner-on-guitar&Itemid=1094
END:VEVENT
END:VCALENDAR
