BEGIN:VCALENDAR
VERSION:2.0
PRODID:-//104.152.168.27//NONSGML kigkonsult.se iCalcreator 2.20//
CALSCALE:GREGORIAN
METHOD:PUBLISH
X-WR-TIMEZONE:Asia/Tokyo
BEGIN:VEVENT
UID:event40560@Tokyo Gig Guide
DTSTAMP:20260420T182912Z
CATEGORIES:Improvised\, Jazz\, Rock
DESCRIPTION:Sakata Akira × Triple Edge: Sakata Akira\, Tzboguchi Masayasu\,
  Hayakawa Takeharu\, Fujikake Masataka with Imahori Tsuneo\nCategory: Impr
 ovised\, Jazz\, Rock\nLink: https://www.tokyogigguide.com/index.php?option
 =com_jem&view=event&id=40560:sakata-akira-triple-edge-sakata-akira-tzboguc
 hi-masayasu-hayakawa-takeharu-fujikake-masataka-with-imahori-tsuneo&Itemid
 =1094\n
DTSTART:20260505T183000
DTEND:20260505T183000
LOCATION:Jirokichi\,Koenji Bldg B1\, 2-3-4 Koenji-kita\,Koenji
SUMMARY:Sakata Akira × Triple Edge: Sakata Akira\, Tzboguchi Masayasu\, Hay
 akawa Takeharu\, Fujikake Masataka with Imahori Tsuneo
URL:https://www.tokyogigguide.com/index.php?option=com_jem&view=event&id=40
 560:sakata-akira-triple-edge-sakata-akira-tzboguchi-masayasu-hayakawa-take
 haru-fujikake-masataka-with-imahori-tsuneo&Itemid=1094
END:VEVENT
BEGIN:VEVENT
UID:event40595@Tokyo Gig Guide
DTSTAMP:20260420T182912Z
CATEGORIES:Avant garde\, Free Jazz\, Instrumental
DESCRIPTION:Satoko Fujii Quartet (Satoko Fujii\, Natsuki Tamura\, Takeharu 
 Hayakawa\, Tatsuya Yoshida)\nCategory: Avant garde\, Free Jazz\, Instrumen
 tal\nLink: https://www.tokyogigguide.com/index.php?option=com_jem&view=eve
 nt&id=40595:satoko-fujii-quartet-satoko-fujii-natsuki-tamura-takeharu-haya
 kawa-tatsuya-yoshida&Itemid=1094\n
DTSTART:20260507T183000
DTEND:20260507T183000
LOCATION:Jirokichi\,Koenji Bldg B1\, 2-3-4 Koenji-kita\,Koenji
SUMMARY:Satoko Fujii Quartet (Satoko Fujii\, Natsuki Tamura\, Takeharu Haya
 kawa\, Tatsuya Yoshida)
URL:https://www.tokyogigguide.com/index.php?option=com_jem&view=event&id=40
 595:satoko-fujii-quartet-satoko-fujii-natsuki-tamura-takeharu-hayakawa-tat
 suya-yoshida&Itemid=1094
END:VEVENT
BEGIN:VEVENT
UID:event40177@Tokyo Gig Guide
DTSTAMP:20260420T182912Z
CATEGORIES:Alternative\, Avant garde\, Experimental\, Improvised\, Rock
DESCRIPTION:Missing Heads (Kazuhide Yamaji\, Mitsuru Tabata\, Tatsuya Yoshi
 da)\nCategory: Alternative\, Avant garde\, Experimental\, Improvised\, Roc
 k\nLink: https://www.tokyogigguide.com/index.php?option=com_jem&view=event
 &id=40177:missing-heads-kazuhide-yamaji-mitsuru-tabata-tatsuya-yoshida&Ite
 mid=1094\n
DTSTART:20260508T183000
DTEND:20260508T183000
LOCATION:Jirokichi\,Koenji Bldg B1\, 2-3-4 Koenji-kita\,Koenji
SUMMARY:Missing Heads (Kazuhide Yamaji\, Mitsuru Tabata\, Tatsuya Yoshida)
URL:https://www.tokyogigguide.com/index.php?option=com_jem&view=event&id=40
 177:missing-heads-kazuhide-yamaji-mitsuru-tabata-tatsuya-yoshida&Itemid=10
 94
END:VEVENT
BEGIN:VEVENT
UID:event40527@Tokyo Gig Guide
DTSTAMP:20260420T182912Z
CATEGORIES:Acoustic\, Fusion\, Latin
DESCRIPTION:Coba\, Natsuki Kido\nCategory: Acoustic\, Fusion\, Latin\nLink:
  https://www.tokyogigguide.com/index.php?option=com_jem&view=event&id=4052
 7:coba-natsuki-kido&Itemid=1094\n
DTSTART:20260516T183000
DTEND:20260516T183000
LOCATION:Jirokichi\,Koenji Bldg B1\, 2-3-4 Koenji-kita\,Koenji
SUMMARY:Coba\, Natsuki Kido
URL:https://www.tokyogigguide.com/index.php?option=com_jem&view=event&id=40
 527:coba-natsuki-kido&Itemid=1094
END:VEVENT
END:VCALENDAR
