BEGIN:VCALENDAR
VERSION:2.0
PRODID:-//104.152.168.27//NONSGML kigkonsult.se iCalcreator 2.20//
CALSCALE:GREGORIAN
METHOD:PUBLISH
X-WR-TIMEZONE:Asia/Tokyo
BEGIN:VEVENT
UID:event40112@Tokyo Gig Guide
DTSTAMP:20260421T024417Z
CATEGORIES:Ambient\, Electronic\, Experimental\, Improvised
DESCRIPTION:Christoven Tan (from Singapore) + Ayami Suzuki + Cal Lyall\, Sh
 izuo Uchida + Takuto Sakaibara\, DJ: Reizen\nCategory: Ambient\, Electroni
 c\, Experimental\, Improvised\nLink: https://www.tokyogigguide.com/index.p
 hp?option=com_jem&view=event&id=40112:christoven-tan-from-singapore-ayami-
 suzuki-cal-lyall-shizuo-uchida-takuto-sakaibara-dj-reizen&Itemid=1094\n
DTSTART:20260420T190000
DTEND:20260420T190000
LOCATION:Knock (Koenji)\,Koenji Minami 3-48-6  B1F\,Koenji
SUMMARY:Christoven Tan (from Singapore) + Ayami Suzuki + Cal Lyall\, Shizuo
  Uchida + Takuto Sakaibara\, DJ: Reizen
URL:https://www.tokyogigguide.com/index.php?option=com_jem&view=event&id=40
 112:christoven-tan-from-singapore-ayami-suzuki-cal-lyall-shizuo-uchida-tak
 uto-sakaibara-dj-reizen&Itemid=1094
END:VEVENT
BEGIN:VEVENT
UID:event40484@Tokyo Gig Guide
DTSTAMP:20260421T024417Z
CATEGORIES:Improvised\, Experimental\, Electronic\, DJ\, Avant garde
DESCRIPTION:Kim David Bots and Lyckle de Jong\, Yohei Kunitomo (pianola rec
 ords)\, tegadeteru\nCategory: Improvised\, Experimental\, Electronic\, DJ\
 , Avant garde\nLink: https://www.tokyogigguide.com/index.php?option=com_je
 m&view=event&id=40484:kim-david-bots-and-lyckle-de-jong-yohei-kunitomo-pia
 nola-records-tegadeteru&Itemid=1094\n
DTSTART:20260507T190000
DTEND:20260507T190000
LOCATION:Knock (Koenji)\,Koenji Minami 3-48-6  B1F\,Koenji
SUMMARY:Kim David Bots and Lyckle de Jong\, Yohei Kunitomo (pianola records
 )\, tegadeteru
URL:https://www.tokyogigguide.com/index.php?option=com_jem&view=event&id=40
 484:kim-david-bots-and-lyckle-de-jong-yohei-kunitomo-pianola-records-tegad
 eteru&Itemid=1094
END:VEVENT
END:VCALENDAR
