BEGIN:VCALENDAR
VERSION:2.0
PRODID:-//104.152.168.27//NONSGML kigkonsult.se iCalcreator 2.20//
CALSCALE:GREGORIAN
METHOD:PUBLISH
X-WR-TIMEZONE:Asia/Tokyo
BEGIN:VEVENT
UID:event40519@Tokyo Gig Guide
DTSTAMP:20260419T223250Z
CATEGORIES:Avant garde\, Experimental\, Free Jazz\, Improvised\, Instrument
 al
DESCRIPTION:Natsuki Kido\, Dairo Suga\nCategory: Avant garde\, Experimental
 \, Free Jazz\, Improvised\, Instrumental\nLink: https://www.tokyogigguide.
 com/index.php?option=com_jem&view=event&id=40519:natsuki-kido-dairo-suga&I
 temid=1094\n
DTSTART:20260422T183000
DTEND:20260422T183000
LOCATION:Dolphy\,2-17-4-2F Miyagawa-cho\, Naka-ku\, Yokohama\,Yokohama
SUMMARY:Natsuki Kido\, Dairo Suga
URL:https://www.tokyogigguide.com/index.php?option=com_jem&view=event&id=40
 519:natsuki-kido-dairo-suga&Itemid=1094
END:VEVENT
END:VCALENDAR
