BEGIN:VCALENDAR
VERSION:2.0
PRODID:-//104.152.168.27//NONSGML kigkonsult.se iCalcreator 2.20//
CALSCALE:GREGORIAN
METHOD:PUBLISH
X-WR-TIMEZONE:Asia/Tokyo
BEGIN:VEVENT
UID:event40735@Tokyo Gig Guide
DTSTAMP:20260424T185737Z
CATEGORIES:Abstract\, Avant garde\, Electro\, Experimental\, Improvised
DESCRIPTION:イルリヒト (ILLRICHT)\, ン・バギ＋マニアオルガン (NBAGI + MANIA ORGAN)\, 魔ゼルな規犬 
 (MAZERUNA KIKEN)\, CARANMBA\nCategory: Abstract\, Avant garde\, Electro\, 
 Experimental\, Improvised\nLink: https://www.tokyogigguide.com/index.php?o
 ption=com_jem&view=event&id=40735:illricht-nbagi-mania-organ-mazeruna-kike
 n-caranmba&Itemid=1094\n
DTSTART:20260426T183000
DTEND:20260426T183000
LOCATION:Earthdom\,Lisbon Bldg B1F\, 3-32-3 Okubo\, Shinjuku-ku\,Okubo
SUMMARY:イルリヒト (ILLRICHT)\, ン・バギ＋マニアオルガン (NBAGI + MANIA ORGAN)\, 魔ゼルな規犬 (MAZ
 ERUNA KIKEN)\, CARANMBA
URL:https://www.tokyogigguide.com/index.php?option=com_jem&view=event&id=40
 735:illricht-nbagi-mania-organ-mazeruna-kiken-caranmba&Itemid=1094
END:VEVENT
BEGIN:VEVENT
UID:event40263@Tokyo Gig Guide
DTSTAMP:20260424T185737Z
CATEGORIES:Death Metal\, Grindcore
DESCRIPTION:NAPALM DEATH\, Thirsty\, 0.001DAY\nCategory: Death Metal\, Grin
 dcore\nLink: https://www.tokyogigguide.com/index.php?option=com_jem&view=e
 vent&id=40263:napalm-death-thirsty-0-001day&Itemid=1094\n
DTSTART:20260429T170000
DTEND:20260429T170000
LOCATION:Earthdom\,Lisbon Bldg B1F\, 3-32-3 Okubo\, Shinjuku-ku\,Okubo
SUMMARY:NAPALM DEATH\, Thirsty\, 0.001DAY
URL:https://www.tokyogigguide.com/index.php?option=com_jem&view=event&id=40
 263:napalm-death-thirsty-0-001day&Itemid=1094
END:VEVENT
BEGIN:VEVENT
UID:event40727@Tokyo Gig Guide
DTSTAMP:20260424T185737Z
CATEGORIES:Free Jazz
DESCRIPTION:TERRIE EX\, PAAL NILSSEN-LOVE\, INCAPACITANTS\nCategory: Free J
 azz\nLink: https://www.tokyogigguide.com/index.php?option=com_jem&view=eve
 nt&id=40727:terrie-ex-paal-nilssen-love&Itemid=1094\n
DTSTART:20260509T193000
DTEND:20260509T193000
LOCATION:Earthdom\,Lisbon Bldg B1F\, 3-32-3 Okubo\, Shinjuku-ku\,Okubo
SUMMARY:TERRIE EX\, PAAL NILSSEN-LOVE\, INCAPACITANTS
URL:https://www.tokyogigguide.com/index.php?option=com_jem&view=event&id=40
 727:terrie-ex-paal-nilssen-love&Itemid=1094
END:VEVENT
BEGIN:VEVENT
UID:event40476@Tokyo Gig Guide
DTSTAMP:20260424T185737Z
CATEGORIES:Doom\, Minimal\, Noise\, Psychedelic
DESCRIPTION:ANKURAH\nCategory: Doom\, Minimal\, Noise\, Psychedelic\nLink: 
 https://www.tokyogigguide.com/index.php?option=com_jem&view=event&id=40476
 :ankurah&Itemid=1094\n
DTSTART:20260520T183000
DTEND:20260520T183000
LOCATION:Earthdom\,Lisbon Bldg B1F\, 3-32-3 Okubo\, Shinjuku-ku\,Okubo
SUMMARY:ANKURAH
URL:https://www.tokyogigguide.com/index.php?option=com_jem&view=event&id=40
 476:ankurah&Itemid=1094
END:VEVENT
BEGIN:VEVENT
UID:event40708@Tokyo Gig Guide
DTSTAMP:20260424T185737Z
CATEGORIES:Avant garde\, Electro\, Free Jazz\, Improvised\, Instrumental
DESCRIPTION:Atsuhiro Ito + Yoshinori Mochizuki + Masahiro Uemura\nCategory:
  Avant garde\, Electro\, Free Jazz\, Improvised\, Instrumental\nLink: http
 s://www.tokyogigguide.com/index.php?option=com_jem&view=event&id=40708:ats
 uhiro-ito-yoshinori-mochizuki-masahiro-uemura&Itemid=1094\n
DTSTART:20260520T190000
DTEND:20260520T190000
LOCATION:Earthdom\,Lisbon Bldg B1F\, 3-32-3 Okubo\, Shinjuku-ku\,Okubo
SUMMARY:Atsuhiro Ito + Yoshinori Mochizuki + Masahiro Uemura
URL:https://www.tokyogigguide.com/index.php?option=com_jem&view=event&id=40
 708:atsuhiro-ito-yoshinori-mochizuki-masahiro-uemura&Itemid=1094
END:VEVENT
BEGIN:VEVENT
UID:event40710@Tokyo Gig Guide
DTSTAMP:20260424T185737Z
CATEGORIES:Avant garde\, Free Jazz\, Hardcore\, Improvised\, Instrumental
DESCRIPTION:Kazuo Imai + Yoshinori Mochizuki + Masahiro Uemura\nCategory: A
 vant garde\, Free Jazz\, Hardcore\, Improvised\, Instrumental\nLink: https
 ://www.tokyogigguide.com/index.php?option=com_jem&view=event&id=40710:kazu
 o-imai-yoshinori-mochizuki-masahiro-uemura&Itemid=1094\n
DTSTART:20260603T190000
DTEND:20260603T190000
LOCATION:Earthdom\,Lisbon Bldg B1F\, 3-32-3 Okubo\, Shinjuku-ku\,Okubo
SUMMARY:Kazuo Imai + Yoshinori Mochizuki + Masahiro Uemura
URL:https://www.tokyogigguide.com/index.php?option=com_jem&view=event&id=40
 710:kazuo-imai-yoshinori-mochizuki-masahiro-uemura&Itemid=1094
END:VEVENT
BEGIN:VEVENT
UID:event40713@Tokyo Gig Guide
DTSTAMP:20260424T185737Z
CATEGORIES:Avant garde\, Free Jazz\, Hardcore\, Improvised\, Instrumental
DESCRIPTION:Kazuo Imai + Yoshinori Mochizuki + Masahiro Uemura\nCategory: A
 vant garde\, Free Jazz\, Hardcore\, Improvised\, Instrumental\nLink: https
 ://www.tokyogigguide.com/index.php?option=com_jem&view=event&id=40713:kazu
 o-imai-yoshinori-mochizuki-masahiro-uemura&Itemid=1094\n
DTSTART:20260701T190000
DTEND:20260701T190000
LOCATION:Earthdom\,Lisbon Bldg B1F\, 3-32-3 Okubo\, Shinjuku-ku\,Okubo
SUMMARY:Kazuo Imai + Yoshinori Mochizuki + Masahiro Uemura
URL:https://www.tokyogigguide.com/index.php?option=com_jem&view=event&id=40
 713:kazuo-imai-yoshinori-mochizuki-masahiro-uemura&Itemid=1094
END:VEVENT
END:VCALENDAR
