BEGIN:VCALENDAR
VERSION:2.0
PRODID:-//104.152.168.27//NONSGML kigkonsult.se iCalcreator 2.20//
CALSCALE:GREGORIAN
METHOD:PUBLISH
X-WR-TIMEZONE:Asia/Tokyo
BEGIN:VEVENT
UID:event40627@Tokyo Gig Guide
DTSTAMP:20260420T133611Z
CATEGORIES:Abstract\, Folk\, Jazz\, Pop\, Improvised
DESCRIPTION:Shoko Numao (vocal)\, Masatake Abe (bass)\, Ryotaro Miyasaka (p
 ercussion)\nCategory: Abstract\, Folk\, Jazz\, Pop\, Improvised\nLink: htt
 ps://www.tokyogigguide.com/index.php?option=com_jem&view=event&id=40627:sh
 oko-numao-vocal-masatake-abe-bass-ryotaro-miyaska-percussion&Itemid=1094\n
DTSTART:20260501T193000
DTEND:20260501T193000
LOCATION:Shichoshitsu (Jinbocho)\,3-8-5 Nishi Kanda\, Chiyodaku\, Tokyo\,Ji
 mbocho
SUMMARY:Shoko Numao (vocal)\, Masatake Abe (bass)\, Ryotaro Miyasaka (percu
 ssion)
URL:https://www.tokyogigguide.com/index.php?option=com_jem&view=event&id=40
 627:shoko-numao-vocal-masatake-abe-bass-ryotaro-miyaska-percussion&Itemid=
 1094
END:VEVENT
BEGIN:VEVENT
UID:event40517@Tokyo Gig Guide
DTSTAMP:20260420T133611Z
CATEGORIES:Avant garde
DESCRIPTION:Satoko Fujii\nCategory: Avant garde\nLink: https://www.tokyogig
 guide.com/index.php?option=com_jem&view=event&id=40517:satoko-fujii&Itemid
 =1094\n
DTSTART;VALUE=DATE:20260605
DTEND;VALUE=DATE:20260606
LOCATION:Shichoshitsu (Jinbocho)\,3-8-5 Nishi Kanda\, Chiyodaku\, Tokyo\,Ji
 mbocho
SUMMARY:Satoko Fujii
URL:https://www.tokyogigguide.com/index.php?option=com_jem&view=event&id=40
 517:satoko-fujii&Itemid=1094
END:VEVENT
END:VCALENDAR
