BEGIN:VCALENDAR
VERSION:2.0
PRODID:-//104.152.168.27//NONSGML kigkonsult.se iCalcreator 2.20//
CALSCALE:GREGORIAN
METHOD:PUBLISH
X-WR-TIMEZONE:Asia/Tokyo
BEGIN:VEVENT
UID:event39962@Tokyo Gig Guide
DTSTAMP:20260420T065139Z
CATEGORIES:Avant garde\, Free Jazz\, Improvised\, Instrumental\, Jazz
DESCRIPTION:Trio L.O.D\nCategory: Avant garde\, Free Jazz\, Improvised\, In
 strumental\, Jazz\nLink: https://www.tokyogigguide.com/index.php?option=co
 m_jem&view=event&id=39962:trio-l-o-d&Itemid=1094\n
DTSTART:20260424T190000
DTEND:20260424T190000
LOCATION:Organ Jazz Club\,B1F 1-34-4 Numabukuro\, Nakano-ku\, Tokyo\,Numabu
 kuro
SUMMARY:Trio L.O.D
URL:https://www.tokyogigguide.com/index.php?option=com_jem&view=event&id=39
 962:trio-l-o-d&Itemid=1094
END:VEVENT
BEGIN:VEVENT
UID:event40384@Tokyo Gig Guide
DTSTAMP:20260420T065139Z
CATEGORIES:Jazz\, Instrumental\, Improvised\, Free Jazz
DESCRIPTION:Trio L.O.D\nCategory: Jazz\, Instrumental\, Improvised\, Free J
 azz\nLink: https://www.tokyogigguide.com/index.php?option=com_jem&view=eve
 nt&id=40384:trio-l-o-d&Itemid=1094\n
DTSTART:20260708T190000
DTEND:20260708T190000
LOCATION:Organ Jazz Club\,B1F 1-34-4 Numabukuro\, Nakano-ku\, Tokyo\,Numabu
 kuro
SUMMARY:Trio L.O.D
URL:https://www.tokyogigguide.com/index.php?option=com_jem&view=event&id=40
 384:trio-l-o-d&Itemid=1094
END:VEVENT
END:VCALENDAR
