BEGIN:VCALENDAR
VERSION:2.0
PRODID:-//104.152.168.27//NONSGML kigkonsult.se iCalcreator 2.20//
CALSCALE:GREGORIAN
METHOD:PUBLISH
X-WR-TIMEZONE:Asia/Tokyo
BEGIN:VEVENT
UID:event40736@Tokyo Gig Guide
DTSTAMP:20260424T210206Z
CATEGORIES:Folk\, Psych-Folk
DESCRIPTION:Mitsuru Tabata presents Solo Galore: NON\, Kasagami\, KANABOON
 \nCategory: Folk\, Psych-Folk\nLink: https://www.tokyogigguide.com/index.p
 hp?option=com_jem&view=event&id=40736:mitsuru-tabata-presents-solo-galore-
 non-kasagami-kanaboon&Itemid=1094\n
DTSTART:20260424T190000
DTEND:20260424T190000
LOCATION:Hikari No Uma\,B1 1-23-17 Hyakunin-cho\, Shinjuku-ku\, Tokyo\,Okub
 o
SUMMARY:Mitsuru Tabata presents Solo Galore: NON\, Kasagami\, KANABOON
URL:https://www.tokyogigguide.com/index.php?option=com_jem&view=event&id=40
 736:mitsuru-tabata-presents-solo-galore-non-kasagami-kanaboon&Itemid=1094
END:VEVENT
BEGIN:VEVENT
UID:event39938@Tokyo Gig Guide
DTSTAMP:20260424T210206Z
CATEGORIES:Experimental
DESCRIPTION:Hano Shoji (dr) + Tabata Mitsuru (guitar) + Nakao Kentarou (bas
 s)\nCategory: Experimental\nLink: https://www.tokyogigguide.com/index.php?
 option=com_jem&view=event&id=39938:hano-shoji-dr-tabata-mitsuru-guitar-nak
 ao-kentarou-bass&Itemid=1094\n
DTSTART:20260428T190000
DTEND:20260428T190000
LOCATION:Hikari No Uma\,B1 1-23-17 Hyakunin-cho\, Shinjuku-ku\, Tokyo\,Okub
 o
SUMMARY:Hano Shoji (dr) + Tabata Mitsuru (guitar) + Nakao Kentarou (bass)
URL:https://www.tokyogigguide.com/index.php?option=com_jem&view=event&id=39
 938:hano-shoji-dr-tabata-mitsuru-guitar-nakao-kentarou-bass&Itemid=1094
END:VEVENT
BEGIN:VEVENT
UID:event40740@Tokyo Gig Guide
DTSTAMP:20260424T210206Z
CATEGORIES:Avant garde\, Free Jazz\, Improvised\, Noise Rock\, Psychedelic\
 , Rock
DESCRIPTION:Shoji Hano + Kentaro Nakao + Mitsuru Tabata\nCategory: Avant ga
 rde\, Free Jazz\, Improvised\, Noise Rock\, Psychedelic\, Rock\nLink: http
 s://www.tokyogigguide.com/index.php?option=com_jem&view=event&id=40740:sho
 ji-hano-kentaro-nakao-mitsuru-tabata&Itemid=1094\n
DTSTART:20260428T190000
DTEND:20260428T190000
LOCATION:Hikari No Uma\,B1 1-23-17 Hyakunin-cho\, Shinjuku-ku\, Tokyo\,Okub
 o
SUMMARY:Shoji Hano + Kentaro Nakao + Mitsuru Tabata
URL:https://www.tokyogigguide.com/index.php?option=com_jem&view=event&id=40
 740:shoji-hano-kentaro-nakao-mitsuru-tabata&Itemid=1094
END:VEVENT
END:VCALENDAR
