BEGIN:VCALENDAR
VERSION:2.0
PRODID:-//104.152.168.27//NONSGML kigkonsult.se iCalcreator 2.20//
CALSCALE:GREGORIAN
METHOD:PUBLISH
X-WR-TIMEZONE:Asia/Tokyo
BEGIN:VEVENT
UID:event39773@Tokyo Gig Guide
DTSTAMP:20260425T115045Z
CATEGORIES:Post-Rock\, Metal\, Doom
DESCRIPTION:Presence of soul\, KRISHNV\, 中学生棺桶 (Chūgakusei Kanoke)\nカテゴリ: P
 ost-Rock\, Metal\, Doom\nリンク: https://www.tokyogigguide.com/index.php?opti
 on=com_jem&view=event&id=39773:presence-of-soul-krishnv-chugakusei-kanoke
 \n
DTSTART:20260505T160000
DTEND:20260505T160000
LOCATION:Wild Side Tokyo\,B1\, 1-34-13 Shinjuku\, Shinjuku-ku\, Tokyo\,Shin
 juku
SUMMARY:Presence of soul\, KRISHNV\, 中学生棺桶 (Chūgakusei Kanoke)
URL:https://www.tokyogigguide.com/index.php?option=com_jem&view=event&id=39
 773:presence-of-soul-krishnv-chugakusei-kanoke
END:VEVENT
END:VCALENDAR
