BEGIN:VCALENDAR
VERSION:2.0
PRODID:-//104.152.168.27//NONSGML kigkonsult.se iCalcreator 2.20//
CALSCALE:GREGORIAN
METHOD:PUBLISH
X-WR-TIMEZONE:Asia/Tokyo
BEGIN:VEVENT
UID:event40476@Tokyo Gig Guide
DTSTAMP:20260421T220636Z
CATEGORIES:Doom\, Minimal\, Noise\, Psychedelic
DESCRIPTION:ANKURAH\nカテゴリ: Doom\, Minimal\, Noise\, Psychedelic\nリンク: https
 ://www.tokyogigguide.com/index.php?option=com_jem&view=event&id=40476:anku
 rah\n
DTSTART:20260520T183000
DTEND:20260520T183000
LOCATION:Earthdom\,Lisbon Bldg B1F\, 3-32-3 Okubo\, Shinjuku-ku\,Okubo
SUMMARY:ANKURAH
URL:https://www.tokyogigguide.com/index.php?option=com_jem&view=event&id=40
 476:ankurah
END:VEVENT
END:VCALENDAR
