BEGIN:VCALENDAR
VERSION:2.0
PRODID:-//104.152.168.27//NONSGML kigkonsult.se iCalcreator 2.20//
CALSCALE:GREGORIAN
METHOD:PUBLISH
X-WR-TIMEZONE:Asia/Tokyo
BEGIN:VEVENT
UID:event40535@Tokyo Gig Guide
DTSTAMP:20260425T232756Z
CATEGORIES:Experimental\, Improvised
DESCRIPTION:Seijiro Murayama\, Yuma Takeshita\nカテゴリ: Experimental\, Improvi
 sed\nリンク: https://www.tokyogigguide.com/index.php?option=com_jem&view=even
 t&id=40535:seijiro-murayama-yuma-takeshita\n
DTSTART:20260427T183000
DTEND:20260427T183000
LOCATION:Nanahari\,Oriental Bldg. B1\, 2-7-1 Shinkawa\, Chuo-ku\,Hatchobori
SUMMARY:Seijiro Murayama\, Yuma Takeshita
URL:https://www.tokyogigguide.com/index.php?option=com_jem&view=event&id=40
 535:seijiro-murayama-yuma-takeshita
END:VEVENT
END:VCALENDAR
