BEGIN:VCALENDAR
VERSION:2.0
PRODID:-//104.152.168.27//NONSGML kigkonsult.se iCalcreator 2.20//
CALSCALE:GREGORIAN
METHOD:PUBLISH
X-WR-TIMEZONE:Asia/Tokyo
BEGIN:VEVENT
UID:event40628@Tokyo Gig Guide
DTSTAMP:20260423T021513Z
CATEGORIES:Improvised
DESCRIPTION:Sylvain Monchocé (gayageum)\, Daniel Studer (double bass)\, Kiy
 omitsu Odai (piano & computer) \nカテゴリ: Improvised\nリンク: https://www.tokyog
 igguide.com/index.php?option=com_jem&view=event&id=40628:sylvain-monchoce-
 gayageum-daniel-studer-double-bass-kiyomitsu-odai-piano-computer\n
DTSTART:20260422T190000
DTEND:20260422T190000
LOCATION:Knuttel House\,4-1-8 Matsugaya\, Taito-ku\, Tokyo\,Iriya
SUMMARY:Sylvain Monchocé (gayageum)\, Daniel Studer (double bass)\, Kiyomit
 su Odai (piano & computer) 
URL:https://www.tokyogigguide.com/index.php?option=com_jem&view=event&id=40
 628:sylvain-monchoce-gayageum-daniel-studer-double-bass-kiyomitsu-odai-pia
 no-computer
END:VEVENT
END:VCALENDAR
