BEGIN:VCALENDAR
VERSION:2.0
PRODID:-//104.152.168.27//NONSGML kigkonsult.se iCalcreator 2.20//
CALSCALE:GREGORIAN
METHOD:PUBLISH
X-WR-TIMEZONE:Asia/Tokyo
BEGIN:VEVENT
UID:event40644@Tokyo Gig Guide
DTSTAMP:20260425T125557Z
CATEGORIES:Alternative\, Electronic\, Indie-Pop\, Rock\, WTF?
DESCRIPTION:OLDTIMER\, Kommune\, seasunsalt\, DJ ume-rock\nカテゴリ: Alternativ
 e\, Electronic\, Indie-Pop\, Rock\, WTF?\nリンク: https://www.tokyogigguide.c
 om/index.php?option=com_jem&view=event&id=40644:oldtimer-kommune-seasunsal
 t-dj-ume-rock\n
DTSTART:20260424T190000
DTEND:20260424T190000
LOCATION:SPREAD\,2-12-6 Kitazawa\, Setagaya-ku\, Tokyo\,Shimokitazawa
SUMMARY:OLDTIMER\, Kommune\, seasunsalt\, DJ ume-rock
URL:https://www.tokyogigguide.com/index.php?option=com_jem&view=event&id=40
 644:oldtimer-kommune-seasunsalt-dj-ume-rock
END:VEVENT
END:VCALENDAR
