BEGIN:VCALENDAR
VERSION:2.0
PRODID:-//104.152.168.27//NONSGML kigkonsult.se iCalcreator 2.20//
CALSCALE:GREGORIAN
METHOD:PUBLISH
X-WR-TIMEZONE:Asia/Tokyo
BEGIN:VEVENT
UID:event40732@Tokyo Gig Guide
DTSTAMP:20260424T083901Z
CATEGORIES:Progressive
DESCRIPTION:Kouenjihyakkei (Tatsuya Yoshida\, Keiko Komori\, Taku Yabuki\, 
 Kei Koganemaru\, Yoshiki Takahashi\, AH)\nカテゴリ: Progressive\nリンク: https://
 www.tokyogigguide.com/index.php?option=com_jem&view=event&id=40732:kouenji
 hyakkei-tatsuya-yoshida-keiko-komori-taku-yabuki-kei-koganemaru-yoshiki-ta
 kahashi-ah\n
DTSTART:20260729T190000
DTEND:20260729T190000
LOCATION:Koenji High\,4-30-1 Koenji-Minami\,Koenji
SUMMARY:Kouenjihyakkei (Tatsuya Yoshida\, Keiko Komori\, Taku Yabuki\, Kei 
 Koganemaru\, Yoshiki Takahashi\, AH)
URL:https://www.tokyogigguide.com/index.php?option=com_jem&view=event&id=40
 732:kouenjihyakkei-tatsuya-yoshida-keiko-komori-taku-yabuki-kei-koganemaru
 -yoshiki-takahashi-ah
END:VEVENT
END:VCALENDAR
